Workbook

Sheet Cennik
A1: Cennik detaliczny Ropam Elektronik — obowiązuje od 2026-09-01
A2: Sugerowane ceny detaliczne NETTO w PLN. Kliknij model, aby otworzyć kartę produktu na ropam.com.pl.
A4: Lp. | B4: Model | C4: Opis | D4: Gr. | E4: Cena netto PLN | F4: Zmiana | G4: Link do karty produktu
A5: 1 | B5: Neo-IP-PS-SET | C5: Neo-IP-PS-SET: Neo-IP-PS/O-R3P/PS-3024/ zestaw, centrala alarmowa IP (WIFI) w obudowie natynkowej, zasilacz AC/DC, 2 strefy, BIx8-32, BOx8-24, AI,TEMPx2, Ari, opcje: EXP-LAN, EXP-LTE | D5: B | E5: 598 | F5: niższa cena | G5: https://ropam.com.pl/wsparcie/neo-ip-ps-set/
A6: 2 | B6: Neo-IP-SET | C6: Neo-IP-SET: Neo-IP/O-R3P/PSR-ECO-2012/ zestaw, centrala alarmowa IP (WIFI) w obudowie natynkowej z zasilaczem ECO , 2 strefy, BIx8-32, BOx8-24, AI,TEMPx2, Ari, opcje: EXP-LAN, EXP-LTE. | D6: B | E6: 685 | F6: niższa cena | G6: https://ropam.com.pl/wsparcie/neo-ip-set/
A7: 3 | B7: Neo-IP | C7: Neo-IP centrala alarmowa z IP (WIFI), 12VDC zasilanie PSR- ECO, 2 strefy, BIx8-32, BOx8-24, AI,TEMPx2, Ari, opcje: EXP- LAN, EXP-LTE, PCB. | D7: B | E7: 385 | F7: niższa cena | G7: https://ropam.com.pl/wsparcie/neo-ip-produkt/
A8: 4 | B8: Neo-IP-D9M | C8: Neo-IP-D9M centrala alarmowa z IP (WIFI), 12VDC zasilanie PSR-ECO, 2 strefy, BIx8-32, BOx8-24, AI,TEMPx2, Ari, opcje: EXP-LAN, EXP-LTE, obudowa DIN-9M. | D8: B | E8: 445 | F8: niższa cena | G8: https://ropam.com.pl/wsparcie/neo-ip-d9m/
A9: 5 | B9: Neo-IP-PS | C9: Neo-IP-PS centrala alarmowa z IP (WIFI), zasilanie 17VAC/24VDC, zasilacz 12V/1,5A, 2 strefy, BIx8-32, BOx8- 24, AI,TEMPx2, Ari, opcje: EXP-LAN, EXP-LTE, PCB. | D9: B | E9: 410 | F9: niższa cena | G9: https://ropam.com.pl/wsparcie/neo-ip-ps/
A10: 6 | B10: Neo-IP-PS-D9M | C10: Neo-IP-PS-D9M centrala alarmowa z IP (WIFI) zasilanie 17VAC/24VDC, zasilacz 12V/1,5A, 2 strefy, BIx8-32, BOx8- 24, AI,TEMPx2, Ari, opcje: EXP-LAN, EXP-LTE, obudowa DIN-9M. | D10: B | E10: 470 | F10: niższa cena | G10: https://ropam.com.pl/wsparcie/neo-ip-ps-d9m/
A11: 7 | B11: Neo-IP-64-SET | C11: Neo-IP-64-SET: Neo-IP-64/O-R4D/PSR-ECO-5012-RS zestaw, centrala alarmowa IP (WIFI ant zewn.), w obudowie natynkowej z zasilaczem ECO, antena WIFI, 4 strefy, BIx16-64, BOx8-40, AI,TEMP/RH/AQ, Ari, opcje: EXP- LAN, EXP-LTE. | D11: B | E11: 1175 | F11: niższa cena | G11: https://ropam.com.pl/wsparcie/neo-ip-64-set/
A12: 8 | B12: Neo-IP-64 | C12: Neo-IP-64 centrala alarmowa z IP (WIFI ant zewn.), 12VDC zasilanie PSR-ECO, 4 strefy, BIx16-64, BOx8-40, TEMP/RH/AQ, Ari, opcje: EXP-LAN, EXP-LTE, PCB. | D12: B | E12: 830 | F12: niższa cena | G12: https://ropam.com.pl/wsparcie/neo-ip-64/
A13: 9 | B13: Neo-IP-64-D12M | C13: Neo-IP-64-D9M centrala alarmowa z IP (WIFI ant zewn.), 12VDC zasilanie PSR-ECO, 4 strefy, BIx16-64, BOx8-40, AI, TEMP/RH/AQ, Ari, opcje: EXP-LAN, EXP-LTE, obudowa DIN- 12M. | D13: B | E13: 910 | F13: niższa cena | G13: https://ropam.com.pl/wsparcie/neo-ip-64-d12m/
A14: 10 | B14: Neo-IP-64-PS | C14: Neo-IP-64-PS centrala alarmowa z IP (WIFI ant zewn.), zasilanie 17VAC/24VDC, zasilacz 12V/1,5A, 4 strefy, BIx16- 64, BOx8-40, AI, TEMP/RH/AQ, Ari, opcje: EXP-LAN, EXP- LTE, PCB. | D14: B | E14: 880 | F14: niższa cena | G14: https://ropam.com.pl/wsparcie/neo-ip-64-ps/
A15: 11 | B15: Neo-IP-64-PS-D12M | C15: Neo-IP-64-PS-D12M centrala alarmowa z IP (WIFI ant zewn.), zasilanie 17VAC/24VDC, zasilacz 12V/1,5A, 4 strefy, BIx16-64, BOx8-40, AI, TEMP/RH/AQ, Ari, opcje: EXP-LAN, EXP-LTE obudowa DIN-12M. | D15: B | E15: 960 | F15: niższa cena | G15: https://ropam.com.pl/wsparcie/neo-ip-64-ps-d12m/
A16: 12 | B16: NeoLTE-IP-PS-SET | C16: NeoLTE-IP-PS-SET: NeoLTE-IP-PS/O-R3P/PS-3024/AT-GSM- MINI90 zestaw, centrala alarmowa LTE/IP (WIFI), obudowa natynkowa, zasilacz AC/DC , 2 strefy, BIx8-32, BOx8-24, AI,TEMPx2, Ari, opcje: EXP-LAN. | D16: B | E16: 790 | F16: niższa cena | G16: https://ropam.com.pl/wsparcie/neolte-ip-ps-set/
... A26: 22 | B26: NeoLTE-IP-64-PS-D12M | C26: NeoLTE-IP-64-PS-D12M centrala alarmowa z LTE/IP (WIFI ant zewn.), zasilanie 17VAC/24VDC, zasilacz 12V/1,5A, 4 strefy, BIx16-64, BOx8-40, AI, TEMP/RH/AQ, Ari, opcje: EXP-LAN, obudowa DIN-12M. | D26: B | E26: 1110 | F26: niższa cena | G26: https://ropam.com.pl/wsparcie/neolte-ip-64-ps-d12m/
A27: 23 | B27: EXP-LAN | C27: EXP-LAN port Ethernet: 10/100 BaseT, RJ45, kompatybilność: Neo-IP/-64, NeoLTE-IP/-64, NeoGSM-IP/- 64, PCB moduł lokalny. | D27: B | E27: 166 | G27: https://ropam.com.pl/wsparcie/explan/
A28: 24 | B28: EXP-LTE | C28: EXP-LTE modem LTE, obsługa sieci 2G/4G kompatybilność: Neo-IP/-64, PCB moduł lokalny, wymagana antena GSM/LTE. | D28: B | E28: 160 | F28: niższa cena | G28: https://ropam.com.pl/wsparcie/exp-lte/
A29: 25 | B29: TPR-7W | C29: TPR-7W panel dotykowy, 7” TFT LCD, dotyk pojemnościowy, obudowa: szklo+ABS, natynkowa, kolor biały, 182x120x17mm, złącza zaciskowe, kompatybilność: NeoLTE-IP-64, Neo-IP-64, NeoGSM-IP-64, montaż na płaskim podłożu lub puszka fi60mm. | D29: B | E29: 822 | G29: https://ropam.com.pl/wsparcie/tpr-7w/
A30: 26 | B30: TPR-7B | C30: TPR-7W panel dotykowy, 7” TFT LCD, dotyk pojemnościowy, obudowa: szklo+ABS, natynkowa, kolor czarny, 182x120x17mm, złącza zaciskowe, kompatybilność: NeoLTE-IP-64, Neo-IP-64, NeoGSM-IP-64, montaż na płaskim podłożu lub puszka fi60mm. | D30: B | E30: 822 | G30: https://ropam.com.pl/wsparcie/tpr-7b/
A31: 27 | B31: TPR-4W-P | C31: TPR-4W-P panel dotykowy, 4,3” TFT LCD, dotyk pojemnościowy, obudowa: szklo+ABS, natynkowa, kolor biały,123x89x18mm, montaż na płaskim podłożu lub puszka fi60, złącza nierozłączne, kompatybilność: Neo-IP/- 64, NeoLTE-IP/-64, NeoGSM-IP/-64. | D31: B | E31: 570 | G31: https://ropam.com.pl/wsparcie/tpr-4w-p/
A32: 28 | B32: TPR-4B-P | C32: TPR-4B-P panel dotykowy, 4,3” TFT LCD, dotyk pojemnościowy, obudowa: szklo+ABS, natynkowa, kolor czarny,123x89x18mm, montaż na płaskim podłożu lub puszka fi60, złącza nierozłączne, kompatybilność: Neo-IP/- 64, NeoLTE-IP/-64, NeoGSM-IP/-64. | D32: B | E32: 570 | G32: https://ropam.com.pl/wsparcie/tpr-4b-p/
A33: 29 | B33: TK-4W | C33: TK-4W klawiatura dotykowa, strefowa: biała, obudowa: ABS, natynkowa, kolor biały, 123x89x18mm, system: Neo-IP/-64, NeoLTE-IP/-64, NeoGSM-IP/-64, OptimaGSM. | D33: B | E33: 297 | G33: https://ropam.com.pl/wsparcie/tk-4w/
A34: 30 | B34: TK-4B | C34: TK-4B klawiatura dotykowa, strefowa: biała, obudowa: ABS, natynkowa, kolor czarny, 123x89x18mm, system: Neo-IP/-64, NeoLTE-IP/-64, NeoGSM-IP/-64, OptimaGSM | D34: B | E34: 297 | G34: https://ropam.com.pl/wsparcie/tk-4b/
A35: 31 | B35: EXP-NFC-RN | C35: EXP-NFC-RN wewnętrzny czytnik zbliżeniowy Mifare 13.56MHz, obsługa kart i breloków MF 1kB, Bluetooth* kompatybilność: NeoLTE-IP-64, Neo-IP-64, NeoGSM-IP-64, do 32 breloków/kart (4 breloki w zestawie), 2 wejscia, 1 wyjście przekaźnikowe i tranzystorowe, magistrala RopamNET obudowa natynkowa, biała, (*BTready - współpraca z aplikacją i sterowania przez Bluetooth - w przygotowaniu) | D35: B | E35: 320 | G35: https://ropam.com.pl/wsparcie/exp-nfc-rn/
A36: 32 | B36: MFT-1 | C36: MFT-1 brelok zbliżeniowy Mifare z pamięcią 1kB, standard 13,56 MHz Mifare | D36: B | E36: 7 | G36: https://ropam.com.pl/wsparcie/mft-1/
A37: 33 | B37: MFC-1 | C37: MFC-1 karta zbliżeniowa Mifare z pamięcią 1kB, standard 13,56 MHz Mifare PCV, rozmiar ISO 86×54×0,8mm | D37: B | E37: 5 | G37: https://ropam.com.pl/wsparcie/?s=MFC-1
A38: 34 | B38: BasicLTE-PS-SET | C38: BasicLTE-PS-SET: BasicLTE-PS/AT-GSM-MINI90/O-R3P/PS- 3024/ zestaw, moduł LTE w obudowie natynkowej z zasilaczem AC/DC i anteną GSM/LTE. | D38: B | E38: 660 | G38: https://ropam.com.pl/wsparcie/basiclte-ps-set/
A39: 35 | B39: BasicLTE-SET | C39: BasicLTE-SET: BasicLTE/AT-GSM-MINI90/O-R3P/PSR-ECO- 2012/ zestaw, moduł LTE w obudowie natynkowej z zasilaczem -ECO i anteną GSM/LTE. | D39: B | E39: 795 | G39: https://ropam.com.pl/wsparcie/basiclte-set/
A40: 36 | B40: BasicLTE | C40: BasicLTE moduł powiadomienia i sterowania LTE (2G/4G), 12VDC, TELx8, E-MAIL x8, BIx6+ BI/AIx2, BOx4, app/SMS/CALL/E- MAIL, TEMP/RHx1, PCB. | D40: B | E40: 497 | G40: https://ropam.com.pl/wsparcie/basiclte/
... A62: 58 | B62: MGD-ari-WH | C62: MGD-ari-WH bezprzewodowa czujka magnetyczna, system ari, biała, bateria ER14250. | D62: B | E62: 150 | G62: https://ropam.com.pl/wsparcie/mgd-ari/
A63: 59 | B63: FS-ari | C63: FS-ari bezprzewodowa czujka zalania wodą, sonda-1m, system ari, biała, bateria ER14250. | D63: B | E63: 140 | F63: niższa cena | G63: https://ropam.com.pl/wsparcie/fs-ari/
A64: 60 | B64: OSD-ari | C64: OSD-ari optyczna, bezprzewodowa, czujka dymu, system ari, wewnętrzna, natynkowa, biała, bateria ER14505. | D64: B | E64: 190 | G64: https://ropam.com.pl/wsparcie/osd-ari/
A65: 61 | B65: TX4-ari-BCH | C65: TX4-ari-BCH pilot 4-kanałowy do dwukierunkowego systemu bezprzewodowego ari, obudowa czarna + chromowy bok, bat. CR2032. | D65: B | E65: 170 | G65: https://ropam.com.pl/wsparcie/tx4-ari-bch/
A66: 62 | B66: TX4-ari-B | C66: TX4-ari-B pilot 4-kanałowy do dwukierunkowego systemu bezprzewodowego ari, obudowa czarna, bat. CR2032. | D66: B | E66: 150 | G66: https://ropam.com.pl/wsparcie/tx4-ari-b/
A67: 63 | B67: TX4-ari-W | C67: TX4-ari-B pilot 4-kanałowy do dwukierunkowego systemu bezprzewodowego ari, obudowa biała, bat. CR2032. | D67: B | E67: 150 | G67: https://ropam.com.pl/wsparcie/tx4-ari-w/
A68: 64 | B68: IO-ari | C68: IO-ari bezprzewodowy moduł wejścia/wyjścia system ari, wewnętrzny, obudowa natynkowa, biała, bateria ER14250. | D68: B | E68: 170 | G68: https://ropam.com.pl/wsparcie/io-ari/
A69: 65 | B69: RHT-ari | C69: RHT-ari bezprzewodowy czujnik wilgotności i temperatury, wewnętrzny, obudowa natynkowa, biała, bateria ER14505. | D69: B | E69: 140 | F69: niższa cena | G69: https://ropam.com.pl/wsparcie/rht-ari/
A70: 66 | B70: IO-ari-230V | C70: IO-ari-230V bezprzewodowy, douszkowy, dwukanałowy sterownik 230VAC, 2xNO, 2xIN (N). | D70: B | E70: 215 | G70: https://ropam.com.pl/wsparcie/io-230v-ari/
A71: 67 | B71: SROL-ari | C71: SROL-ari bezprzewodowy, douszkowy sterownik rolety 230VAC, amperometryka, status rolety w aplikacji i panelu dotykowym (-IP-64). | D71: B | E71: 190 | G71: https://ropam.com.pl/wsparcie/srol-ari/
...

Sheet Wycena
A1: Kalkulator wyceny
A2: JAK KORZYSTAĆ:
A3: • Wypełniaj wyłącznie pola na ŻÓŁTYM tle: kolumna A (Model – lista rozwijana), D (Ilość), E (Rabat %).
A4: • Rabat wpisuj jako liczbę w procentach, np. 15% (nie 0,15).
A5: • Stawka VAT – założenie 23% (podstawowa stawka w PL), zmień jeśli dotyczy inna.
A6: Stawka VAT: | B6: 0.23
A8: Model | B8: Opis | C8: Cena netto PLN | D8: Ilość | E8: Rabat % | F8: Wartość netto | G8: VAT | H8: Wartość brutto
B9: =IF($A9="","",IFERROR(INDEX(Cennik!$C$5:$C$157,MATCH($A9,Cennik!$B$5:$B$157,0)),"brak w cenniku")) | C9: =IF($A9="","",IFERROR(INDEX(Cennik!$E$5:$E$157,MATCH($A9,Cennik!$B$5:$B$157,0)),0)) | F9: =IF($A9="","",$C9*N($D9)*(1-N($E9))) | G9: =IF($A9="","",$F9*$B$6) | H9: =IF($A9="","",$F9+$G9)
B10: =IF($A10="","",IFERROR(INDEX(Cennik!$C$5:$C$157,MATCH($A10,Cennik!$B$5:$B$157,0)),"brak w cenniku")) | C10: =IF($A10="","",IFERROR(INDEX(Cennik!$E$5:$E$157,MATCH($A10,Cennik!$B$5:$B$157,0)),0)) | F10: =IF($A10="","",$C10*N($D10)*(1-N($E10))) | G10: =IF($A10="","",$F10*$B$6) | H10: =IF($A10="","",$F10+$G10)
B11: =IF($A11="","",IFERROR(INDEX(Cennik!$C$5:$C$157,MATCH($A11,Cennik!$B$5:$B$157,0)),"brak w cenniku")) | C11: =IF($A11="","",IFERROR(INDEX(Cennik!$E$5:$E$157,MATCH($A11,Cennik!$B$5:$B$157,0)),0)) | F11: =IF($A11="","",$C11*N($D11)*(1-N($E11))) | G11: =IF($A11="","",$F11*$B$6) | H11: =IF($A11="","",$F11+$G11)
B12: =IF($A12="","",IFERROR(INDEX(Cennik!$C$5:$C$157,MATCH($A12,Cennik!$B$5:$B$157,0)),"brak w cenniku")) | C12: =IF($A12="","",IFERROR(INDEX(Cennik!$E$5:$E$157,MATCH($A12,Cennik!$B$5:$B$157,0)),0)) | F12: =IF($A12="","",$C12*N($D12)*(1-N($E12))) | G12: =IF($A12="","",$F12*$B$6) | H12: =IF($A12="","",$F12+$G12)
B13: =IF($A13="","",IFERROR(INDEX(Cennik!$C$5:$C$157,MATCH($A13,Cennik!$B$5:$B$157,0)),"brak w cenniku")) | C13: =IF($A13="","",IFERROR(INDEX(Cennik!$E$5:$E$157,MATCH($A13,Cennik!$B$5:$B$157,0)),0)) | F13: =IF($A13="","",$C13*N($D13)*(1-N($E13))) | G13: =IF($A13="","",$F13*$B$6) | H13: =IF($A13="","",$F13+$G13)
B14: =IF($A14="","",IFERROR(INDEX(Cennik!$C$5:$C$157,MATCH($A14,Cennik!$B$5:$B$157,0)),"brak w cenniku")) | C14: =IF($A14="","",IFERROR(INDEX(Cennik!$E$5:$E$157,MATCH($A14,Cennik!$B$5:$B$157,0)),0)) | F14: =IF($A14="","",$C14*N($D14)*(1-N($E14))) | G14: =IF($A14="","",$F14*$B$6) | H14: =IF($A14="","",$F14+$G14)
B15: =IF($A15="","",IFERROR(INDEX(Cennik!$C$5:$C$157,MATCH($A15,Cennik!$B$5:$B$157,0)),"brak w cenniku")) | C15: =IF($A15="","",IFERROR(INDEX(Cennik!$E$5:$E$157,MATCH($A15,Cennik!$B$5:$B$157,0)),0)) | F15: =IF($A15="","",$C15*N($D15)*(1-N($E15))) | G15: =IF($A15="","",$F15*$B$6) | H15: =IF($A15="","",$F15+$G15)
B16: =IF($A16="","",IFERROR(INDEX(Cennik!$C$5:$C$157,MATCH($A16,Cennik!$B$5:$B$157,0)),"brak w cenniku")) | C16: =IF($A16="","",IFERROR(INDEX(Cennik!$E$5:$E$157,MATCH($A16,Cennik!$B$5:$B$157,0)),0)) | F16: =IF($A16="","",$C16*N($D16)*(1-N($E16))) | G16: =IF($A16="","",$F16*$B$6) | H16: =IF($A16="","",$F16+$G16)
B17: =IF($A17="","",IFERROR(INDEX(Cennik!$C$5:$C$157,MATCH($A17,Cennik!$B$5:$B$157,0)),"brak w cenniku")) | C17: =IF($A17="","",IFERROR(INDEX(Cennik!$E$5:$E$157,MATCH($A17,Cennik!$B$5:$B$157,0)),0)) | F17: =IF($A17="","",$C17*N($D17)*(1-N($E17))) | G17: =IF($A17="","",$F17*$B$6) | H17: =IF($A17="","",$F17+$G17)
B18: =IF($A18="","",IFERROR(INDEX(Cennik!$C$5:$C$157,MATCH($A18,Cennik!$B$5:$B$157,0)),"brak w cenniku")) | C18: =IF($A18="","",IFERROR(INDEX(Cennik!$E$5:$E$157,MATCH($A18,Cennik!$B$5:$B$157,0)),0)) | F18: =IF($A18="","",$C18*N($D18)*(1-N($E18))) | G18: =IF($A18="","",$F18*$B$6) | H18: =IF($A18="","",$F18+$G18)
B19: =IF($A19="","",IFERROR(INDEX(Cennik!$C$5:$C$157,MATCH($A19,Cennik!$B$5:$B$157,0)),"brak w cenniku")) | C19: =IF($A19="","",IFERROR(INDEX(Cennik!$E$5:$E$157,MATCH($A19,Cennik!$B$5:$B$157,0)),0)) | F19: =IF($A19="","",$C19*N($D19)*(1-N($E19))) | G19: =IF($A19="","",$F19*$B$6) | H19: =IF($A19="","",$F19+$G19)
B20: =IF($A20="","",IFERROR(INDEX(Cennik!$C$5:$C$157,MATCH($A20,Cennik!$B$5:$B$157,0)),"brak w cenniku")) | C20: =IF($A20="","",IFERROR(INDEX(Cennik!$E$5:$E$157,MATCH($A20,Cennik!$B$5:$B$157,0)),0)) | F20: =IF($A20="","",$C20*N($D20)*(1-N($E20))) | G20: =IF($A20="","",$F20*$B$6) | H20: =IF($A20="","",$F20+$G20)
... B29: =IF($A29="","",IFERROR(INDEX(Cennik!$C$5:$C$157,MATCH($A29,Cennik!$B$5:$B$157,0)),"brak w cenniku")) | C29: =IF($A29="","",IFERROR(INDEX(Cennik!$E$5:$E$157,MATCH($A29,Cennik!$B$5:$B$157,0)),0)) | F29: =IF($A29="","",$C29*N($D29)*(1-N($E29))) | G29: =IF($A29="","",$F29*$B$6) | H29: =IF($A29="","",$F29+$G29)
E30: RAZEM: | F30: =SUM(F9:F29) -> 0 | G30: =SUM(G9:G29) -> 0 | H30: =SUM(H9:H29) -> 0
