Workbook

Sheet Cennik
A1: Cennik detaliczny Ropam Elektronik — obowiązuje od 2026-09-01
A2: Sugerowane ceny detaliczne NETTO w PLN. Kliknij model, aby otworzyć kartę produktu na ropam.com.pl.
A4: Lp. | B4: Model | C4: Opis | D4: Gr. | E4: Cena netto PLN | F4: Zmiana | G4: Link do karty produktu
A5: 1 | B5: Neo-IP-PS-SET | C5: Neo-IP-PS-SET: Neo-IP-PS/O-R3P/PS-3024/ zestaw, centrala alarmowa IP (WIFI) w obudowie natynkowej, zasilacz AC/DC, 2 strefy, BIx8-32, BOx8-24, AI,TEMPx2, Ari, opcje: EXP-LAN, EXP-LTE | D5: B | E5: 598 | F5: niższa cena | G5: https://ropam.com.pl/wsparcie/neo-ip-ps-set/
A6: 2 | B6: Neo-IP-SET | C6: Neo-IP-SET: Neo-IP/O-R3P/PSR-ECO-2012/ zestaw, centrala alarmowa IP (WIFI) w obudowie natynkowej z zasilaczem ECO , 2 strefy, BIx8-32, BOx8-24, AI,TEMPx2, Ari, opcje: EXP-LAN, EXP-LTE. | D6: B | E6: 685 | F6: niższa cena | G6: https://ropam.com.pl/wsparcie/neo-ip-set/
A7: 3 | B7: Neo-IP | C7: Neo-IP centrala alarmowa z IP (WIFI), 12VDC zasilanie PSR- ECO, 2 strefy, BIx8-32, BOx8-24, AI,TEMPx2, Ari, opcje: EXP- LAN, EXP-LTE, PCB. | D7: B | E7: 385 | F7: niższa cena | G7: https://ropam.com.pl/wsparcie/neo-ip-produkt/
A8: 4 | B8: Neo-IP-D9M | C8: Neo-IP-D9M centrala alarmowa z IP (WIFI), 12VDC zasilanie PSR-ECO, 2 strefy, BIx8-32, BOx8-24, AI,TEMPx2, Ari, opcje: EXP-LAN, EXP-LTE, obudowa DIN-9M. | D8: B | E8: 445 | F8: niższa cena | G8: https://ropam.com.pl/wsparcie/neo-ip-d9m/
A9: 5 | B9: Neo-IP-PS | C9: Neo-IP-PS centrala alarmowa z IP (WIFI), zasilanie 17VAC/24VDC, zasilacz 12V/1,5A, 2 strefy, BIx8-32, BOx8- 24, AI,TEMPx2, Ari, opcje: EXP-LAN, EXP-LTE, PCB. | D9: B | E9: 410 | F9: niższa cena | G9: https://ropam.com.pl/wsparcie/neo-ip-ps/
A10: 6 | B10: Neo-IP-PS-D9M | C10: Neo-IP-PS-D9M centrala alarmowa z IP (WIFI) zasilanie 17VAC/24VDC, zasilacz 12V/1,5A, 2 strefy, BIx8-32, BOx8- 24, AI,TEMPx2, Ari, opcje: EXP-LAN, EXP-LTE, obudowa DIN-9M. | D10: B | E10: 470 | F10: niższa cena | G10: https://ropam.com.pl/wsparcie/neo-ip-ps-d9m/
A11: 7 | B11: Neo-IP-64-SET | C11: Neo-IP-64-SET: Neo-IP-64/O-R4D/PSR-ECO-5012-RS zestaw, centrala alarmowa IP (WIFI ant zewn.), w obudowie natynkowej z zasilaczem ECO, antena WIFI, 4 strefy, BIx16-64, BOx8-40, AI,TEMP/RH/AQ, Ari, opcje: EXP- LAN, EXP-LTE. | D11: B | E11: 1175 | F11: niższa cena | G11: https://ropam.com.pl/wsparcie/neo-ip-64-set/
A12: 8 | B12: Neo-IP-64 | C12: Neo-IP-64 centrala alarmowa z IP (WIFI ant zewn.), 12VDC zasilanie PSR-ECO, 4 strefy, BIx16-64, BOx8-40, TEMP/RH/AQ, Ari, opcje: EXP-LAN, EXP-LTE, PCB. | D12: B | E12: 830 | F12: niższa cena | G12: https://ropam.com.pl/wsparcie/neo-ip-64/
A13: 9 | B13: Neo-IP-64-D12M | C13: Neo-IP-64-D9M centrala alarmowa z IP (WIFI ant zewn.), 12VDC zasilanie PSR-ECO, 4 strefy, BIx16-64, BOx8-40, AI, TEMP/RH/AQ, Ari, opcje: EXP-LAN, EXP-LTE, obudowa DIN- 12M. | D13: B | E13: 910 | F13: niższa cena | G13: https://ropam.com.pl/wsparcie/neo-ip-64-d12m/
A14: 10 | B14: Neo-IP-64-PS | C14: Neo-IP-64-PS centrala alarmowa z IP (WIFI ant zewn.), zasilanie 17VAC/24VDC, zasilacz 12V/1,5A, 4 strefy, BIx16- 64, BOx8-40, AI, TEMP/RH/AQ, Ari, opcje: EXP-LAN, EXP- LTE, PCB. | D14: B | E14: 880 | F14: niższa cena | G14: https://ropam.com.pl/wsparcie/neo-ip-64-ps/
A15: 11 | B15: Neo-IP-64-PS-D12M | C15: Neo-IP-64-PS-D12M centrala alarmowa z IP (WIFI ant zewn.), zasilanie 17VAC/24VDC, zasilacz 12V/1,5A, 4 strefy, BIx16-64, BOx8-40, AI, TEMP/RH/AQ, Ari, opcje: EXP-LAN, EXP-LTE obudowa DIN-12M. | D15: B | E15: 960 | F15: niższa cena | G15: https://ropam.com.pl/wsparcie/neo-ip-64-ps-d12m/
A16: 12 | B16: NeoLTE-IP-PS-SET | C16: NeoLTE-IP-PS-SET: NeoLTE-IP-PS/O-R3P/PS-3024/AT-GSM- MINI90 zestaw, centrala alarmowa LTE/IP (WIFI), obudowa natynkowa, zasilacz AC/DC , 2 strefy, BIx8-32, BOx8-24, AI,TEMPx2, Ari, opcje: EXP-LAN. | D16: B | E16: 790 | F16: niższa cena | G16: https://ropam.com.pl/wsparcie/neolte-ip-ps-set/
... A26: 22 | B26: NeoLTE-IP-64-PS-D12M | C26: NeoLTE-IP-64-PS-D12M centrala alarmowa z LTE/IP (WIFI ant zewn.), zasilanie 17VAC/24VDC, zasilacz 12V/1,5A, 4 strefy, BIx16-64, BOx8-40, AI, TEMP/RH/AQ, Ari, opcje: EXP-LAN, obudowa DIN-12M. | D26: B | E26: 1110 | F26: niższa cena | G26: https://ropam.com.pl/wsparcie/neolte-ip-64-ps-d12m/
A27: 23 | B27: EXP-LAN | C27: EXP-LAN port Ethernet: 10/100 BaseT, RJ45, kompatybilność: Neo-IP/-64, NeoLTE-IP/-64, NeoGSM-IP/- 64, PCB moduł lokalny. | D27: B | E27: 166 | G27: https://ropam.com.pl/wsparcie/explan/
A28: 24 | B28: EXP-LTE | C28: EXP-LTE modem LTE, obsługa sieci 2G/4G kompatybilność: Neo-IP/-64, PCB moduł lokalny, wymagana antena GSM/LTE. | D28: B | E28: 160 | F28: niższa cena | G28: https://ropam.com.pl/wsparcie/exp-lte/
A29: 25 | B29: TPR-7W | C29: TPR-7W panel dotykowy, 7” TFT LCD, dotyk pojemnościowy, obudowa: szklo+ABS, natynkowa, kolor biały, 182x120x17mm, złącza zaciskowe, kompatybilność: NeoLTE-IP-64, Neo-IP-64, NeoGSM-IP-64, montaż na płaskim podłożu lub puszka fi60mm. | D29: B | E29: 822 | G29: https://ropam.com.pl/wsparcie/tpr-7w/
A30: 26 | B30: TPR-7B | C30: TPR-7W panel dotykowy, 7” TFT LCD, dotyk pojemnościowy, obudowa: szklo+ABS, natynkowa, kolor czarny, 182x120x17mm, złącza zaciskowe, kompatybilność: NeoLTE-IP-64, Neo-IP-64, NeoGSM-IP-64, montaż na płaskim podłożu lub puszka fi60mm. | D30: B | E30: 822 | G30: https://ropam.com.pl/wsparcie/tpr-7b/
A31: 27 | B31: TPR-4W-P | C31: TPR-4W-P panel dotykowy, 4,3” TFT LCD, dotyk pojemnościowy, obudowa: szklo+ABS, natynkowa, kolor biały,123x89x18mm, montaż na płaskim podłożu lub puszka fi60, złącza nierozłączne, kompatybilność: Neo-IP/- 64, NeoLTE-IP/-64, NeoGSM-IP/-64. | D31: B | E31: 570 | G31: https://ropam.com.pl/wsparcie/tpr-4w-p/
A32: 28 | B32: TPR-4B-P | C32: TPR-4B-P panel dotykowy, 4,3” TFT LCD, dotyk pojemnościowy, obudowa: szklo+ABS, natynkowa, kolor czarny,123x89x18mm, montaż na płaskim podłożu lub puszka fi60, złącza nierozłączne, kompatybilność: Neo-IP/- 64, NeoLTE-IP/-64, NeoGSM-IP/-64. | D32: B | E32: 570 | G32: https://ropam.com.pl/wsparcie/tpr-4b-p/
A33: 29 | B33: TK-4W | C33: TK-4W klawiatura dotykowa, strefowa: biała, obudowa: ABS, natynkowa, kolor biały, 123x89x18mm, system: Neo-IP/-64, NeoLTE-IP/-64, NeoGSM-IP/-64, OptimaGSM. | D33: B | E33: 297 | G33: https://ropam.com.pl/wsparcie/tk-4w/
A34: 30 | B34: TK-4B | C34: TK-4B klawiatura dotykowa, strefowa: biała, obudowa: ABS, natynkowa, kolor czarny, 123x89x18mm, system: Neo-IP/-64, NeoLTE-IP/-64, NeoGSM-IP/-64, OptimaGSM | D34: B | E34: 297 | G34: https://ropam.com.pl/wsparcie/tk-4b/
A35: 31 | B35: EXP-NFC-RN | C35: EXP-NFC-RN wewnętrzny czytnik zbliżeniowy Mifare 13.56MHz, obsługa kart i breloków MF 1kB, Bluetooth* kompatybilność: NeoLTE-IP-64, Neo-IP-64, NeoGSM-IP-64, do 32 breloków/kart (4 breloki w zestawie), 2 wejscia, 1 wyjście przekaźnikowe i tranzystorowe, magistrala RopamNET obudowa natynkowa, biała, (*BTready - współpraca z aplikacją i sterowania przez Bluetooth - w przygotowaniu) | D35: B | E35: 320 | G35: https://ropam.com.pl/wsparcie/exp-nfc-rn/
A36: 32 | B36: MFT-1 | C36: MFT-1 brelok zbliżeniowy Mifare z pamięcią 1kB, standard 13,56 MHz Mifare | D36: B | E36: 7 | G36: https://ropam.com.pl/wsparcie/mft-1/
A37: 33 | B37: MFC-1 | C37: MFC-1 karta zbliżeniowa Mifare z pamięcią 1kB, standard 13,56 MHz Mifare PCV, rozmiar ISO 86×54×0,8mm | D37: B | E37: 5 | G37: https://ropam.com.pl/wsparcie/?s=MFC-1
A38: 34 | B38: BasicLTE-PS-SET | C38: BasicLTE-PS-SET: BasicLTE-PS/AT-GSM-MINI90/O-R3P/PS- 3024/ zestaw, moduł LTE w obudowie natynkowej z zasilaczem AC/DC i anteną GSM/LTE. | D38: B | E38: 660 | G38: https://ropam.com.pl/wsparcie/basiclte-ps-set/
A39: 35 | B39: BasicLTE-SET | C39: BasicLTE-SET: BasicLTE/AT-GSM-MINI90/O-R3P/PSR-ECO- 2012/ zestaw, moduł LTE w obudowie natynkowej z zasilaczem -ECO i anteną GSM/LTE. | D39: B | E39: 795 | G39: https://ropam.com.pl/wsparcie/basiclte-set/
A40: 36 | B40: BasicLTE | C40: BasicLTE moduł powiadomienia i sterowania LTE (2G/4G), 12VDC, TELx8, E-MAIL x8, BIx6+ BI/AIx2, BOx4, app/SMS/CALL/E- MAIL, TEMP/RHx1, PCB. | D40: B | E40: 497 | G40: https://ropam.com.pl/wsparcie/basiclte/
... A62: 58 | B62: MGD-ari-WH | C62: MGD-ari-WH bezprzewodowa czujka magnetyczna, system ari, biała, bateria ER14250. | D62: B | E62: 150 | G62: https://ropam.com.pl/wsparcie/mgd-ari/
A63: 59 | B63: FS-ari | C63: FS-ari bezprzewodowa czujka zalania wodą, sonda-1m, system ari, biała, bateria ER14250. | D63: B | E63: 140 | F63: niższa cena | G63: https://ropam.com.pl/wsparcie/fs-ari/
A64: 60 | B64: OSD-ari | C64: OSD-ari optyczna, bezprzewodowa, czujka dymu, system ari, wewnętrzna, natynkowa, biała, bateria ER14505. | D64: B | E64: 190 | G64: https://ropam.com.pl/wsparcie/osd-ari/
A65: 61 | B65: TX4-ari-BCH | C65: TX4-ari-BCH pilot 4-kanałowy do dwukierunkowego systemu bezprzewodowego ari, obudowa czarna + chromowy bok, bat. CR2032. | D65: B | E65: 170 | G65: https://ropam.com.pl/wsparcie/tx4-ari-bch/
A66: 62 | B66: TX4-ari-B | C66: TX4-ari-B pilot 4-kanałowy do dwukierunkowego systemu bezprzewodowego ari, obudowa czarna, bat. CR2032. | D66: B | E66: 150 | G66: https://ropam.com.pl/wsparcie/tx4-ari-b/
A67: 63 | B67: TX4-ari-W | C67: TX4-ari-B pilot 4-kanałowy do dwukierunkowego systemu bezprzewodowego ari, obudowa biała, bat. CR2032. | D67: B | E67: 150 | G67: https://ropam.com.pl/wsparcie/tx4-ari-w/
A68: 64 | B68: IO-ari | C68: IO-ari bezprzewodowy moduł wejścia/wyjścia system ari, wewnętrzny, obudowa natynkowa, biała, bateria ER14250. | D68: B | E68: 170 | G68: https://ropam.com.pl/wsparcie/io-ari/
A69: 65 | B69: RHT-ari | C69: RHT-ari bezprzewodowy czujnik wilgotności i temperatury, wewnętrzny, obudowa natynkowa, biała, bateria ER14505. | D69: B | E69: 140 | F69: niższa cena | G69: https://ropam.com.pl/wsparcie/rht-ari/
A70: 66 | B70: IO-ari-230V | C70: IO-ari-230V bezprzewodowy, douszkowy, dwukanałowy sterownik 230VAC, 2xNO, 2xIN (N). | D70: B | E70: 215 | G70: https://ropam.com.pl/wsparcie/io-230v-ari/
A71: 67 | B71: SROL-ari | C71: SROL-ari bezprzewodowy, douszkowy sterownik rolety 230VAC, amperometryka, status rolety w aplikacji i panelu dotykowym (-IP-64). | D71: B | E71: 190 | G71: https://ropam.com.pl/wsparcie/srol-ari/
A72: 68 | B72: BAT-ER14505M | C72: BAT- ER14505M bateria litowa 3.6V, 2000mAh AA, kompatybilność: PIR-ari, OSD-ari. | D72: B | E72: 22 | G72: https://ropam.com.pl/wsparcie/bat-er14505m/
A73: 69 | B73: BAT-ER14250 | C73: BAT- ER14250 bateria litowa 3.6V, 1200mAh, 1/2 AA, kompatybilność: MGD-ari, FS-ari, IO-ari | D73: B | E73: 14 | G73: https://ropam.com.pl/wsparcie/bat-er14250/
A74: 70 | B74: H-TX4 | C74: H-TX4 uchwyt naścienny do pilotów TX4-ari, przeźroczysty 68x52x15mm | D74: A | E74: 25 | G74: https://ropam.com.pl/wsparcie/h-tx4/
A75: 71 | B75: RF-4C | C75: RF-4C Odbiornik sterownika radiowego, 433MHz, superheterodyna, 4 kanały, praca systemowa: Neo-IP/-64, NeoLTE-IP/-64, NeoGSM-IP/-64, OptimaGSM lub autonomiczna, obudowa natynkowa. | D75: B | E75: 165 | G75: https://ropam.com.pl/wsparcie/rf-4c/
A76: 72 | B76: RF-4C-2K | C76: RF-4C-2K Sterownik radiowy, 433MHz, superheterodyna, 4 kanały, praca systemowa: Neo-IP/-64, NeoLTE-IP/-64, NeoGSM-IP/-64, OptimaGSM lub autonomiczna, obudowa natynkowa, 2 piloty TR-4H. | D76: B | E76: 240 | G76: https://ropam.com.pl/wsparcie/rf-4c-2k/
A77: 73 | B77: TR-4 | C77: TR-4 pilot 4-kanałowy, 433MHz, bateria 27A/12V, przeznaczenie: RF-4. | D77: B | E77: 50 | G77: https://ropam.com.pl/wsparcie/tr-4-3/
A78: 74 | B78: TR-4H | C78: TR-4H pilot 4-kanałowy, 433MHz, bateria 27A/12V, współpraca z RF-4, MultiLTE-RF, EXP-RF. bryzgoszczelny. | D78: B | E78: 50 | G78: https://ropam.com.pl/wsparcie/tr-4h/
A79: 75 | B79: TR-4H-ID | C79: TR-4H-ID pilot 4-kanałowy, 433MHz, dedykowany do MultiLTE-RF, ID pilota- naklejka, bateria 27A, bryzgoszczelny. | D79: B | E79: 60 | G79: https://ropam.com.pl/wsparcie/tr-4h-id/
A80: 76 | B80: EXP-RF | C80: EXP-RF Odbiornik RF 433 MHz do sterowania pilotami TR- 4x, moduł lokalny, PCB, kompatybilność: BasicLTE/-PS. Basic4G/-PS. | D80: B | E80: 60 | G80: https://ropam.com.pl/wsparcie/exp-rf/
A81: 77 | B81: EXP-I8 | C81: EXP-I8 - ekspander, moduł 8 wejść BI, kompatybilność: Neo-IP, NeoLTE-IP, NeoGSM-IP, ekspander lokalny, PCB. | D81: B | E81: 131 | G81: https://ropam.com.pl/wsparcie/exp-i8/
... A132: 128 | B132: O-RHS | C132: O-RHS obudowa hermetyczna, natynkowa, 176x126x58 WxHXD [mm], RAL7035, tamper, przeznaczenie: wersje BasiLTE/Basic4G/MultiLTE-RF/EXP-I8-RN, EXP-O8T-RN | D132: A | E132: 39 | G132: https://ropam.com.pl/wsparcie/o-rhs/
A133: 129 | B133: O-RBOX | C133: O-RBOX obudowa natynkowa, 130x100x36 WxHXD [mm], jasnoszara, tamper, przeznaczenie: BasicLTE/Basic4G/MultiLTE-RF/EXP-I8-RN, EXP-O8T-RN | E133: 39 | G133: https://ropam.com.pl/wsparcie/o-rbox/
A134: 130 | B134: O-R2D12 | C134: O-R2D12 obudowa, rozdzielnia natynkowa, 350x310x104 WxHXD [mm], biała, tamper, 2 szyny DIN (2x12), rozbudowa przez łączenia, przeznaczenie: centrale, moduły DIN, akum. 7Ah/1.2Ah | D134: A | E134: 95 | G134: https://ropam.com.pl/wsparcie/o-r2d12/
A135: 131 | B135: O-R3D12 | C135: O-R3D12 obudowa, rozdzielnia natynkowa, 350x475x104 WxHXD [mm], biała, tamper, 3 szyny DIN (3x12), rozbudowa przez łączenia, przeznaczenie: centrale, moduły DIN, akum. 7Ah/18Ah | D135: A | E135: 145 | G135: https://ropam.com.pl/wsparcie/o-r3d12/
A136: 132 | B136: O-KEY | C136: O-KEY metalowy zamek z dwoma kluczami do rozdzielni O- RxD12 | D136: A | E136: 45 | G136: https://ropam.com.pl/wsparcie/o-key/
A137: 133 | B137: O-LINK | C137: O-LINK łaczniki do połączenia rozdzielni O-RxD12, w pionie lub poziomie (kpl.=2szt.) | D137: A | E137: 5 | G137: https://ropam.com.pl/wsparcie/o-link/
A138: 134 | B138: BP 1.2Ah 12V | C138: BP 1.2Ah 12V akumulator AGM o żywotności projektowanej 3-5 lat (wg. Eurobat) dedykowana do O- R2D, O-RHD, O-R3x | D138: A | E138: 49 | G138: https://ropam.com.pl/wsparcie/bp-12ah/
A139: 135 | B139: BP 7Ah 12V | C139: BP 7Ah 12V akumulator AGM o żywotności projektowanej 3-5 lat (wg. Eurobat) dedykowana O-R3x, O-R4D, O-R2D12 | D139: A | E139: 71 | G139: https://ropam.com.pl/wsparcie/bp-7ah/
A140: 136 | B140: BP 18Ah 12V | C140: BP 18Ah 12V akumulator AGM o żywotności projektowanej 3-5 lat (wg. Eurobat) dedykowana O-R4D, O-R3D12 | D140: A | E140: 181 | G140: https://ropam.com.pl/wsparcie/bp-18ah/
A141: 137 | B141: AM 2.2Ah 12V | C141: AM 2,2Ah, 12V akumulator AGM o żywotności projektowanej 6-9 lat (wg. Eurobat) dedykowana do O- R2D, O-RHD. | D141: A | E141: 64 | G141: https://ropam.com.pl/wsparcie/am-22ah/
A142: 138 | B142: RM5-12V-1P | C142: RM5-12V-1P moduł przekaźnika, dopuszkowy, instalacyjny, cewka 12Vdc, SPST, 5A/250VAC, sygnalizacja LED, zabezpieczenie przeciwprzepięciowe | D142: A | E142: 28 | G142: https://ropam.com.pl/wsparcie/rm5-12v-1p/
A143: 139 | B143: RM5-12V-4P | C143: RM5-12V-4P moduł przekaźnika, 4 przekaźniki na szynę w obudowie DIN 2M, cewka 12Vdc, SPST, 5A/250VAC, sygnalizacja LED, zabezpieczenie przeciwprzepięciowe | D143: A | E143: 128 | G143: https://ropam.com.pl/wsparcie/rm5-12v-4p/
A144: 140 | B144: RM5-24V-4P | C144: RM5-12V-1P moduł przekaźnika, 4 przekaźniki na szynę w obudowie DIN 2M, cewka 24Vdc, SPST, 5A/250VAC, sygnalizacja LED, zabezpieczenie przeciwprzepięciowe | D144: A | E144: 158 | G144: https://ropam.com.pl/wsparcie/rm5-24v-4p/
A145: 141 | B145: RM85-12V-1P | C145: RM85-12V-1P moduł przekaźnika na szynę DIN 1M, cewka 12Vdc, SPDT, 12A/250VAC | D145: A | E145: 32 | G145: https://ropam.com.pl/wsparcie/rm85-12v-1p/
... A149: 145 | B149: RG25-230V-2P | C149: RG25-230V-2P przekaźnik przemysłowym, małogabarytowy, wysokoprądowe, DIN 2M, cewka 230Vac, DPST-NO, 2xNO, 25A/400VAC, 25A/24VDC. | D149: A | E149: 72 | G149: https://ropam.com.pl/wsparcie/rg25-230v-2p/
A150: 146 | B150: FS-NPN-2m | C150: FS-NPN-2m czujka zalania przewodowa, sonda+ 2m przewód, IP67 , wyjście NPN 0,1A , zasilanie 12/24VDC. | D150: A | E150: 138 | F150: wyższa cena | G150: https://ropam.com.pl/wsparcie/fs-npn-2m/
A151: 147 | B151: PMT | C151: PMT- Kontroler fazy, IN: 230VAC L-N, OUT: OC NPN, 5mA/30VDC. | D151: A | E151: 20 | G151: https://ropam.com.pl/wsparcie/pmt/
A152: 148 | B152: KAB-12VDC-NeoX-IP | C152: KAB-12VDC-NeoX-IP - Wiązka do zasilania 12VDC: Neo-IP/- 64, NeoLTE-IP/-64, NeoGSM-IP/-64, zabezpieczenie przed odwrotną polaryzacją, złącze PSR-ECO-2012. | D152: A | E152: 22 | G152: https://ropam.com.pl/wsparcie/kab-12vdc-neogsm-ip/
A153: 149 | B153: VALVE-G1/2-IMPULSE | C153: VALVE-G1/2-IMPULSE zawór elektromagnetyczny bistabilny, TORK-S1030 , zawór G1/2"+ cewka 12VDC-C62 + moduł sterowania , 2/2 drożny, NC, G1/2", 0,5-16 bar, Kv:48 l/min, mosiądz + EPDM, atest PZH | D153: C | E153: 590 | F153: NOWOŚĆ | G153: https://ropam.com.pl/wsparcie/?s=VALVE-G1/2-IMPULSE
A154: 150 | B154: VALVE-G3/4-IMPULSE | C154: VALVE-G3/4-IMPULSE zawór elektromagnetyczny bistabilny, TORK-S1030 , zawór G3/4"+ cewka 12VDC-C62 + moduł sterowania , 2/2 drożny, NC, G3/4", 0,5-16 bar, Kv:120 l/min, mosiądz + EPDM, atest PZH | D154: C | E154: 720 | F154: NOWOŚĆ | G154: https://ropam.com.pl/wsparcie/?s=VALVE-G3/4-IMPULSE
A155: 151 | B155: VALVE-G1-IMPULSE | C155: VALVE-G1-IMPULSE zawór elektromagnetyczny bistabilny, TORK-S1030 , zawór G1"+ cewka 12VDC-C62 + moduł sterowania , 2/2 drożny, NC, G1", 0,5-16 bar, Kv:170 l/min, mosiądz + EPDM, atest PZH | D155: C | E155: 790 | F155: NOWOŚĆ | G155: https://ropam.com.pl/wsparcie/?s=VALVE-G1-IMPULSE
A156: 152 | B156: SH-4m | C156: SH-4m Sonda hydrostatyczna PML-S131 IP68; zakres 0- 4,0mH2O; sygnał 4-20mA; kabel PUR 10mb; do wody/oleju/ścieków, atest PZH | D156: C | E156: 940 | F156: NOWOŚĆ | G156: https://ropam.com.pl/wsparcie/?s=SH-4m
A157: 153 | B157: FLOAT-5m | C157: FLOAT-5m pływak gruszkowy IP68, wyjście C/NO/NC- 10A(4A), stan Hi/Lo cieczy, kabel neoprenowy 5mb z balastem, do wody/ścieków | D157: C | E157: 160 | F157: NOWOŚĆ | G157: https://ropam.com.pl/wsparcie/?s=FLOAT-5m

Sheet Wycena
A1: Kalkulator wyceny
A2: JAK KORZYSTAĆ:
A3: • Wypełniaj wyłącznie pola na ŻÓŁTYM tle: kolumna A (Model – lista rozwijana), D (Ilość), E (Rabat %).
A4: • Rabat wpisuj jako liczbę w procentach, np. 15% (nie 0,15).
A5: • Stawka VAT – założenie 23% (podstawowa stawka w PL), zmień jeśli dotyczy inna.
A6: Stawka VAT: | B6: 0.23
A8: Model | B8: Opis | C8: Cena netto PLN | D8: Ilość | E8: Rabat % | F8: Wartość netto | G8: VAT | H8: Wartość brutto
B9: =IF($A9="","",IFERROR(INDEX(Cennik!$C$5:$C$157,MATCH($A9,Cennik!$B$5:$B$157,0)),"brak w cenniku")) | C9: =IF($A9="","",IFERROR(INDEX(Cennik!$E$5:$E$157,MATCH($A9,Cennik!$B$5:$B$157,0)),0)) | F9: =IF($A9="","",$C9*N($D9)*(1-N($E9))) | G9: =IF($A9="","",$F9*$B$6) | H9: =IF($A9="","",$F9+$G9)
B10: =IF($A10="","",IFERROR(INDEX(Cennik!$C$5:$C$157,MATCH($A10,Cennik!$B$5:$B$157,0)),"brak w cenniku")) | C10: =IF($A10="","",IFERROR(INDEX(Cennik!$E$5:$E$157,MATCH($A10,Cennik!$B$5:$B$157,0)),0)) | F10: =IF($A10="","",$C10*N($D10)*(1-N($E10))) | G10: =IF($A10="","",$F10*$B$6) | H10: =IF($A10="","",$F10+$G10)
B11: =IF($A11="","",IFERROR(INDEX(Cennik!$C$5:$C$157,MATCH($A11,Cennik!$B$5:$B$157,0)),"brak w cenniku")) | C11: =IF($A11="","",IFERROR(INDEX(Cennik!$E$5:$E$157,MATCH($A11,Cennik!$B$5:$B$157,0)),0)) | F11: =IF($A11="","",$C11*N($D11)*(1-N($E11))) | G11: =IF($A11="","",$F11*$B$6) | H11: =IF($A11="","",$F11+$G11)
B12: =IF($A12="","",IFERROR(INDEX(Cennik!$C$5:$C$157,MATCH($A12,Cennik!$B$5:$B$157,0)),"brak w cenniku")) | C12: =IF($A12="","",IFERROR(INDEX(Cennik!$E$5:$E$157,MATCH($A12,Cennik!$B$5:$B$157,0)),0)) | F12: =IF($A12="","",$C12*N($D12)*(1-N($E12))) | G12: =IF($A12="","",$F12*$B$6) | H12: =IF($A12="","",$F12+$G12)
B13: =IF($A13="","",IFERROR(INDEX(Cennik!$C$5:$C$157,MATCH($A13,Cennik!$B$5:$B$157,0)),"brak w cenniku")) | C13: =IF($A13="","",IFERROR(INDEX(Cennik!$E$5:$E$157,MATCH($A13,Cennik!$B$5:$B$157,0)),0)) | F13: =IF($A13="","",$C13*N($D13)*(1-N($E13))) | G13: =IF($A13="","",$F13*$B$6) | H13: =IF($A13="","",$F13+$G13)
B14: =IF($A14="","",IFERROR(INDEX(Cennik!$C$5:$C$157,MATCH($A14,Cennik!$B$5:$B$157,0)),"brak w cenniku")) | C14: =IF($A14="","",IFERROR(INDEX(Cennik!$E$5:$E$157,MATCH($A14,Cennik!$B$5:$B$157,0)),0)) | F14: =IF($A14="","",$C14*N($D14)*(1-N($E14))) | G14: =IF($A14="","",$F14*$B$6) | H14: =IF($A14="","",$F14+$G14)
B15: =IF($A15="","",IFERROR(INDEX(Cennik!$C$5:$C$157,MATCH($A15,Cennik!$B$5:$B$157,0)),"brak w cenniku")) | C15: =IF($A15="","",IFERROR(INDEX(Cennik!$E$5:$E$157,MATCH($A15,Cennik!$B$5:$B$157,0)),0)) | F15: =IF($A15="","",$C15*N($D15)*(1-N($E15))) | G15: =IF($A15="","",$F15*$B$6) | H15: =IF($A15="","",$F15+$G15)
B16: =IF($A16="","",IFERROR(INDEX(Cennik!$C$5:$C$157,MATCH($A16,Cennik!$B$5:$B$157,0)),"brak w cenniku")) | C16: =IF($A16="","",IFERROR(INDEX(Cennik!$E$5:$E$157,MATCH($A16,Cennik!$B$5:$B$157,0)),0)) | F16: =IF($A16="","",$C16*N($D16)*(1-N($E16))) | G16: =IF($A16="","",$F16*$B$6) | H16: =IF($A16="","",$F16+$G16)
B17: =IF($A17="","",IFERROR(INDEX(Cennik!$C$5:$C$157,MATCH($A17,Cennik!$B$5:$B$157,0)),"brak w cenniku")) | C17: =IF($A17="","",IFERROR(INDEX(Cennik!$E$5:$E$157,MATCH($A17,Cennik!$B$5:$B$157,0)),0)) | F17: =IF($A17="","",$C17*N($D17)*(1-N($E17))) | G17: =IF($A17="","",$F17*$B$6) | H17: =IF($A17="","",$F17+$G17)
B18: =IF($A18="","",IFERROR(INDEX(Cennik!$C$5:$C$157,MATCH($A18,Cennik!$B$5:$B$157,0)),"brak w cenniku")) | C18: =IF($A18="","",IFERROR(INDEX(Cennik!$E$5:$E$157,MATCH($A18,Cennik!$B$5:$B$157,0)),0)) | F18: =IF($A18="","",$C18*N($D18)*(1-N($E18))) | G18: =IF($A18="","",$F18*$B$6) | H18: =IF($A18="","",$F18+$G18)
B19: =IF($A19="","",IFERROR(INDEX(Cennik!$C$5:$C$157,MATCH($A19,Cennik!$B$5:$B$157,0)),"brak w cenniku")) | C19: =IF($A19="","",IFERROR(INDEX(Cennik!$E$5:$E$157,MATCH($A19,Cennik!$B$5:$B$157,0)),0)) | F19: =IF($A19="","",$C19*N($D19)*(1-N($E19))) | G19: =IF($A19="","",$F19*$B$6) | H19: =IF($A19="","",$F19+$G19)
B20: =IF($A20="","",IFERROR(INDEX(Cennik!$C$5:$C$157,MATCH($A20,Cennik!$B$5:$B$157,0)),"brak w cenniku")) | C20: =IF($A20="","",IFERROR(INDEX(Cennik!$E$5:$E$157,MATCH($A20,Cennik!$B$5:$B$157,0)),0)) | F20: =IF($A20="","",$C20*N($D20)*(1-N($E20))) | G20: =IF($A20="","",$F20*$B$6) | H20: =IF($A20="","",$F20+$G20)
... B29: =IF($A29="","",IFERROR(INDEX(Cennik!$C$5:$C$157,MATCH($A29,Cennik!$B$5:$B$157,0)),"brak w cenniku")) | C29: =IF($A29="","",IFERROR(INDEX(Cennik!$E$5:$E$157,MATCH($A29,Cennik!$B$5:$B$157,0)),0)) | F29: =IF($A29="","",$C29*N($D29)*(1-N($E29))) | G29: =IF($A29="","",$F29*$B$6) | H29: =IF($A29="","",$F29+$G29)
E30: RAZEM: | F30: =SUM(F9:F29) -> 0 | G30: =SUM(G9:G29) -> 0 | H30: =SUM(H9:H29) -> 0
